BEGIN:VCALENDAR
VERSION:2.0
PRODID:-//Plone.org//NONSGML plone.app.event//EN
X-WR-TIMEZONE:US/Eastern
BEGIN:VEVENT
SUMMARY:Cookie Exchange
DTSTART;TZID=US/Eastern:20161220T180000
DTEND;TZID=US/Eastern:20161220T190000
DTSTAMP:20260420T223014Z
UID:e62e282ba0f54c8ba79f4408754de38f@saas_stack_varnish:6080
CONTACT:Kelli Lovasz\, 810-688-2282\, northbranchlibrary@northbranchlibrar
 y.net
CREATED:20161116T192802Z
DESCRIPTION:Join the NBTL Cookbook Club for a Cookie Exchange.  Enjoy a fu
 n evening of conversation about recipes\, cooking techniques and of course
  cookies.  Each participant is asked to bring 3 dozen cookies of their cho
 ice.  Bags will be provided.  Please call the Circulation Desk (810) 688-2
 282 to let us know if you will be attending.
LAST-MODIFIED:20161116T192807Z
LOCATION:NBTL Meeting Room
URL:https://northbranch.ploud.net/news-events/lib-cal/cookie-exchange
END:VEVENT
BEGIN:VTIMEZONE
TZID:US/Eastern
X-LIC-LOCATION:US/Eastern
BEGIN:STANDARD
DTSTART:20161106T010000
TZNAME:EST
TZOFFSETFROM:-0400
TZOFFSETTO:-0500
END:STANDARD
END:VTIMEZONE
END:VCALENDAR
