BEGIN:VCALENDAR
VERSION:2.0
PRODID:-//Plone.org//NONSGML plone.app.event//EN
X-WR-TIMEZONE:US/Eastern
BEGIN:VEVENT
SUMMARY:CPR Class
DTSTART;TZID=US/Eastern:20230817T160000
DTEND;TZID=US/Eastern:20230817T180000
DTSTAMP:20260419T214421Z
UID:e7881e5ce8cf4bf2937329841ec4c733@saas_stack_varnish:6080
CONTACT:Kelli Lovasz\, 810-688-2282\, northbranchlibrary@northbranchlibrar
 y.net
CREATED:20230616T203151Z
DESCRIPTION:Do you need to renew your CPR certification? Have you always w
 anted your CPR card?  We are offering a class in conjunction with NB Fire 
 Department.  There will be a charge for the this class to pay for the inst
 ructor and your CPR certification.
LAST-MODIFIED:20230616T203156Z
LOCATION:NBTL
URL:https://northbranch.ploud.net/news-events/lib-cal/cpr-class
END:VEVENT
BEGIN:VTIMEZONE
TZID:US/Eastern
X-LIC-LOCATION:US/Eastern
BEGIN:DAYLIGHT
DTSTART:20230312T030000
TZNAME:EDT
TZOFFSETFROM:-0500
TZOFFSETTO:-0400
END:DAYLIGHT
END:VTIMEZONE
END:VCALENDAR
