BEGIN:VCALENDAR
VERSION:2.0
PRODID:-//Plone.org//NONSGML plone.app.event//EN
X-WR-TIMEZONE:US/Eastern
BEGIN:VEVENT
SUMMARY:Crafternoon
DTSTART;TZID=US/Eastern:20170615T160000
DTEND;TZID=US/Eastern:20170615T180000
DTSTAMP:20260420T204700Z
UID:e0e1931d48be4a2ab0092ce07bf95b44@saas_stack_varnish:6080
CONTACT:Christi Mortell\, 810-688-2282\, northbranchlibrary@northbranchlib
 rary.net
CREATED:20170515T190136Z
DESCRIPTION:Craft Program TBA for Tweens\, Teens & Adults.  Call the front
  desk for information.
LAST-MODIFIED:20170515T190140Z
LOCATION:NBTL Meeting Room
URL:https://northbranch.ploud.net/news-events/lib-cal/crafternoon-1
END:VEVENT
BEGIN:VTIMEZONE
TZID:US/Eastern
X-LIC-LOCATION:US/Eastern
BEGIN:DAYLIGHT
DTSTART:20170312T030000
TZNAME:EDT
TZOFFSETFROM:-0500
TZOFFSETTO:-0400
END:DAYLIGHT
END:VTIMEZONE
END:VCALENDAR
