BEGIN:VCALENDAR
VERSION:2.0
PRODID:-//Plone.org//NONSGML plone.app.event//EN
X-WR-TIMEZONE:US/Eastern
BEGIN:VEVENT
SUMMARY:Crafternoon
DTSTART;TZID=US/Eastern:20171026T160000
DTEND;TZID=US/Eastern:20171026T180000
DTSTAMP:20260420T190224Z
UID:184644162a7d49b4b8d8e230573f9ccc@saas_stack_varnish:6080
ATTENDEE;CN="This craft is perfect for tweens/teens and adults.  Anyone yo
 unger than 16 must have an adult present.";ROLE=REQ-PARTICIPANT:This craft
  is perfect for tweens/teens and adults.  Anyone younger than 16 must have
  an adult present.
CONTACT:Kelli Lovasz\, 810-688-2282\, northbranchlibrary@northbranchlibrar
 y.net
CREATED:20170928T155752Z
DESCRIPTION:Our monthly Crafternoons are full of fun\, conversation and cr
 afts.  This month we will be making an Autumn Wreath.  Please call the lib
 rary to register for this event.
LAST-MODIFIED:20170928T155808Z
LOCATION:NBTL Meeting Room
URL:https://northbranch.ploud.net/news-events/lib-cal/crafternoon-2
END:VEVENT
BEGIN:VTIMEZONE
TZID:US/Eastern
X-LIC-LOCATION:US/Eastern
BEGIN:DAYLIGHT
DTSTART:20170312T030000
TZNAME:EDT
TZOFFSETFROM:-0500
TZOFFSETTO:-0400
END:DAYLIGHT
END:VTIMEZONE
END:VCALENDAR
