BEGIN:VCALENDAR
VERSION:2.0
PRODID:-//Plone.org//NONSGML plone.app.event//EN
X-WR-TIMEZONE:US/Eastern
BEGIN:VEVENT
SUMMARY:Crafternoon
DTSTART;TZID=US/Eastern:20171214T160000
DTEND;TZID=US/Eastern:20171214T180000
DTSTAMP:20260420T191748Z
UID:cdf4c7d6f4244b4c950461adffaa1eda@saas_stack_varnish:6080
ATTENDEE;CN="This craft is perfect for teens and adults.  Younger particip
 ants must have an adult present.";ROLE=REQ-PARTICIPANT:This craft is perfe
 ct for teens and adults.  Younger participants must have an adult present.
CONTACT:Christi Mortell\, 810-688-2282\, northbranchlibrary@northbranchlib
 rary.net
CREATED:20170928T192954Z
DESCRIPTION:This month we will be making a Mason jar snowman craft.
LAST-MODIFIED:20170928T193003Z
LOCATION:NBTL Meeting Room
URL:https://northbranch.ploud.net/news-events/lib-cal/crafternoon-4
END:VEVENT
BEGIN:VTIMEZONE
TZID:US/Eastern
X-LIC-LOCATION:US/Eastern
BEGIN:STANDARD
DTSTART:20171105T010000
TZNAME:EST
TZOFFSETFROM:-0400
TZOFFSETTO:-0500
END:STANDARD
END:VTIMEZONE
END:VCALENDAR
