BEGIN:VCALENDAR
VERSION:2.0
PRODID:-//Plone.org//NONSGML plone.app.event//EN
X-WR-TIMEZONE:US/Eastern
BEGIN:VEVENT
SUMMARY:Crafternoon
DTSTART;TZID=US/Eastern:20180118T160000
DTEND;TZID=US/Eastern:20180118T180000
DTSTAMP:20260420T190352Z
UID:e4d38f2c0bf44cddbb27270f9dbbfc9e@saas_stack_varnish:6080
ATTENDEE;CN="Tweens - Adults";ROLE=REQ-PARTICIPANT:Tweens - Adults
CONTACT:Kelli Lovasz\, 810-688-2282\, northbranchlibrary@northbranchlibrar
 y.net
CREATED:20180104T141525Z
DESCRIPTION:Faux Stained Glass Windows:  We will be making faux stained gl
 ass windows using picture frames and paint.  This program is suitable for 
 tweens - adults.  Preregistration is required.  Please call the library 81
 0-688-2282 or stop at the circulation desk to sign up.
LAST-MODIFIED:20180104T141531Z
LOCATION:NBTL Meeting Room
URL:https://northbranch.ploud.net/news-events/lib-cal/crafternoon-5
END:VEVENT
BEGIN:VTIMEZONE
TZID:US/Eastern
X-LIC-LOCATION:US/Eastern
BEGIN:STANDARD
DTSTART:20171105T010000
TZNAME:EST
TZOFFSETFROM:-0400
TZOFFSETTO:-0500
END:STANDARD
END:VTIMEZONE
END:VCALENDAR
