BEGIN:VCALENDAR
VERSION:2.0
PRODID:-//Plone.org//NONSGML plone.app.event//EN
X-WR-TIMEZONE:US/Eastern
BEGIN:VEVENT
SUMMARY:Crafternoon
DTSTART;TZID=US/Eastern:20211111T150000
DTEND;TZID=US/Eastern:20211111T180000
DTSTAMP:20260420T054919Z
UID:16ceb31e6a22422fb746b3619ebe071d@saas_stack_varnish:6080
CONTACT:Kelli Lovasz\, 8106882282\, northbranchlibary@northbranchlibrary.n
 et
CREATED:20211028T181609Z
DESCRIPTION:Make a jewelry scarf.  Space for this program is limited.  Pre
 registration is required.
LAST-MODIFIED:20211028T181628Z
LOCATION:NBTL Meeting Room
URL:https://northbranch.ploud.net/news-events/lib-cal/crafternoon-6
END:VEVENT
BEGIN:VTIMEZONE
TZID:US/Eastern
X-LIC-LOCATION:US/Eastern
BEGIN:STANDARD
DTSTART:20211107T010000
TZNAME:EST
TZOFFSETFROM:-0400
TZOFFSETTO:-0500
END:STANDARD
END:VTIMEZONE
END:VCALENDAR
