BEGIN:VCALENDAR
VERSION:2.0
PRODID:-//Plone.org//NONSGML plone.app.event//EN
X-WR-TIMEZONE:US/Eastern
BEGIN:VEVENT
SUMMARY:Crafternoon - Diffuser Necklace
DTSTART;TZID=US/Eastern:20190228T160000
DTEND;TZID=US/Eastern:20190228T180000
DTSTAMP:20260420T141934Z
UID:07512a15b463448c92a9f0b252dfe330@saas_stack_varnish:6080
ATTENDEE;CN="Tweens and Adults";ROLE=REQ-PARTICIPANT:Tweens and Adults
CONTACT:Kelli Lovasz\, 8106882282\, northbranchlibrary@northbranchlibrary.
 net
CREATED:20190205T162837Z
DESCRIPTION:Join us to make your own essential oil diffuser necklace.  Thi
 s class is great for tweens and adults.  We will provide the supplies.  Pl
 ease preregister for this class in-person/by-phone so we have enough suppl
 ies for everyone.
LAST-MODIFIED:20190205T162841Z
LOCATION:NBTL Meeting Room
URL:https://northbranch.ploud.net/news-events/lib-cal/crafternoon-diffuser
 -necklace
END:VEVENT
BEGIN:VTIMEZONE
TZID:US/Eastern
X-LIC-LOCATION:US/Eastern
BEGIN:STANDARD
DTSTART:20181104T010000
TZNAME:EST
TZOFFSETFROM:-0400
TZOFFSETTO:-0500
END:STANDARD
END:VTIMEZONE
END:VCALENDAR
