BEGIN:VCALENDAR
VERSION:2.0
PRODID:-//Plone.org//NONSGML plone.app.event//EN
X-WR-TIMEZONE:US/Eastern
BEGIN:VEVENT
SUMMARY:Crafternoon - Home Sign
DTSTART;TZID=US/Eastern:20190321T160000
DTEND;TZID=US/Eastern:20190321T180000
DTSTAMP:20260420T141030Z
UID:b5e2ea9ecb2740f7ab209364b9afc5b1@saas_stack_varnish:6080
CONTACT:Kelli Lovasz\, 8106882282\, northbranchlibrary@northbranchlibrary.
 net
CREATED:20190205T165525Z
DESCRIPTION:We will be making a wooden decorative "Home" sign.  Paints wil
 l be used so dress appropriately.  This is a 2 hour class to allow for pai
 nting time.  Please be on time.  Preregistration is required.
LAST-MODIFIED:20190205T165529Z
LOCATION:NBTL Meeting Room
URL:https://northbranch.ploud.net/news-events/lib-cal/crafternoon-home-sig
 n
END:VEVENT
BEGIN:VTIMEZONE
TZID:US/Eastern
X-LIC-LOCATION:US/Eastern
BEGIN:DAYLIGHT
DTSTART:20190310T030000
TZNAME:EDT
TZOFFSETFROM:-0500
TZOFFSETTO:-0400
END:DAYLIGHT
END:VTIMEZONE
END:VCALENDAR
