BEGIN:VCALENDAR
VERSION:2.0
PRODID:-//Plone.org//NONSGML plone.app.event//EN
X-WR-TIMEZONE:US/Eastern
BEGIN:VEVENT
SUMMARY:CRAFTERNOON - MASON JAR SCARECROWS
DTSTART;TZID=US/Eastern:20181025T160000
DTEND;TZID=US/Eastern:20181025T170000
DTSTAMP:20260420T154243Z
UID:2945da302d4046f581e17e30cbc7109a@saas_stack_varnish:6080
ATTENDEE;CN="tweens and adults";ROLE=REQ-PARTICIPANT:tweens and adults
CONTACT:Kelli Lovasz\, 8106882282\, northbranchlibrary@northbranchlibrary.
 net
CREATED:20180928T155743Z
DESCRIPTION:Join us to make scarecrows out of mason jars.  This craft is s
 uitable for tweens and adults.
LAST-MODIFIED:20180928T155748Z
LOCATION:NBTL Meeting Room
URL:https://northbranch.ploud.net/news-events/lib-cal/crafternoon-mason-ja
 r-scarecrows
END:VEVENT
BEGIN:VTIMEZONE
TZID:US/Eastern
X-LIC-LOCATION:US/Eastern
BEGIN:DAYLIGHT
DTSTART:20180311T030000
TZNAME:EDT
TZOFFSETFROM:-0500
TZOFFSETTO:-0400
END:DAYLIGHT
END:VTIMEZONE
END:VCALENDAR
