BEGIN:VCALENDAR
VERSION:2.0
PRODID:-//Plone.org//NONSGML plone.app.event//EN
X-WR-TIMEZONE:US/Eastern
BEGIN:VEVENT
SUMMARY:Crafternoon - North Pole
DTSTART;TZID=US/Eastern:20181115T160000
DTEND;TZID=US/Eastern:20181115T173000
DTSTAMP:20260420T190542Z
UID:f6b766c465ac4478acf06462b441a5de@saas_stack_varnish:6080
CONTACT:Christi Mortell\, 810-688-2282\, northbranchlibrary@northbranchlib
 rary.net
CREATED:20180830T173258Z
DESCRIPTION:Make a decoration for Christmas.  We will be making a North Po
 le.  Call the library to register for this class
LAST-MODIFIED:20180830T173302Z
LOCATION:NBTL Meeting Room
URL:https://northbranch.ploud.net/news-events/lib-cal/crafternoon-north-po
 le
END:VEVENT
BEGIN:VTIMEZONE
TZID:US/Eastern
X-LIC-LOCATION:US/Eastern
BEGIN:STANDARD
DTSTART:20181104T010000
TZNAME:EST
TZOFFSETFROM:-0400
TZOFFSETTO:-0500
END:STANDARD
END:VTIMEZONE
END:VCALENDAR
