BEGIN:VCALENDAR
VERSION:2.0
PRODID:-//Plone.org//NONSGML plone.app.event//EN
X-WR-TIMEZONE:US/Eastern
BEGIN:VEVENT
SUMMARY:Crafternoon : Picnic Boxes
DTSTART;TZID=US/Eastern:20190620T160000
DTEND;TZID=US/Eastern:20190620T180000
DTSTAMP:20260420T155642Z
UID:da02356267c44d499a7ce79846c540bb@saas_stack_varnish:6080
ATTENDEE;CN="Preregistration is required for this class.";ROLE=REQ-PARTICI
 PANT:Preregistration is required for this class.
CONTACT:Christi Mortell\, 8106882282\, northbranchlibrary@northbranchlibra
 ry.net
CREATED:20190605T182757Z
DESCRIPTION:We will be making Picnic Boxes\, to carry your summer staples 
 for dining.  Please preregister for this class\, with a limit of one box p
 er household.   Paint and power tools will be used in this class.
LAST-MODIFIED:20190605T182802Z
LOCATION:NBTL Meeting Room
URL:https://northbranch.ploud.net/news-events/lib-cal/crafternoon-picnic-b
 oxes
END:VEVENT
BEGIN:VTIMEZONE
TZID:US/Eastern
X-LIC-LOCATION:US/Eastern
BEGIN:DAYLIGHT
DTSTART:20190310T030000
TZNAME:EDT
TZOFFSETFROM:-0500
TZOFFSETTO:-0400
END:DAYLIGHT
END:VTIMEZONE
END:VCALENDAR
