BEGIN:VCALENDAR
VERSION:2.0
PRODID:-//Plone.org//NONSGML plone.app.event//EN
X-WR-TIMEZONE:US/Eastern
BEGIN:VEVENT
SUMMARY:Crafternoon - Wine bottle decorations
DTSTART;TZID=US/Eastern:20180419T160000
DTEND;TZID=US/Eastern:20180419T180000
DTSTAMP:20260420T205610Z
UID:2308346a88ac4a70b5e2f2b1bc811343@saas_stack_varnish:6080
CONTACT:Kelli Lovasz\, 810-688-2282\, northbranchlibrary@northbranchlibrar
 y.net
CREATED:20180323T140403Z
DESCRIPTION:We will be using recycled wine bottles\, book pages and magazi
 nes to make beautiful\, fun decorations for your home.
LAST-MODIFIED:20180323T140408Z
LOCATION:NBTL Meeting Room
URL:https://northbranch.ploud.net/news-events/lib-cal/crafternoon-wine-bot
 tle-decorations
END:VEVENT
BEGIN:VTIMEZONE
TZID:US/Eastern
X-LIC-LOCATION:US/Eastern
BEGIN:DAYLIGHT
DTSTART:20180311T030000
TZNAME:EDT
TZOFFSETFROM:-0500
TZOFFSETTO:-0400
END:DAYLIGHT
END:VTIMEZONE
END:VCALENDAR
