BEGIN:VCALENDAR
VERSION:2.0
PRODID:-//Plone.org//NONSGML plone.app.event//EN
X-WR-TIMEZONE:US/Eastern
BEGIN:VEVENT
SUMMARY:Crafternoon
DTSTART;TZID=US/Eastern:20170518T160000
DTEND;TZID=US/Eastern:20170518T180000
DTSTAMP:20260422T120430Z
UID:6d99d550b44746d3a0a375010f437a89@saas_stack_varnish:6080
ATTENDEE;CN="Teens and adults";ROLE=REQ-PARTICIPANT:Teens and adults
CONTACT:Christi Mortell\, 810-688-2282\, northbranchlibrary@northbranchlib
 rary.net
CREATED:20170515T181500Z
DESCRIPTION:"Check Your Pockets":  A fun craft for teens and adults.  Make
  your own odds and ends holder for your laundry Room.  Registration and a 
 pint size mason jar is required for this program.  Power and hand tools wi
 ll be in use for this program.
LAST-MODIFIED:20170515T181508Z
LOCATION:NBTL Meeting Room
URL:https://northbranch.ploud.net/news-events/lib-cal/crafternoon
END:VEVENT
BEGIN:VTIMEZONE
TZID:US/Eastern
X-LIC-LOCATION:US/Eastern
BEGIN:DAYLIGHT
DTSTART:20170312T030000
TZNAME:EDT
TZOFFSETFROM:-0500
TZOFFSETTO:-0400
END:DAYLIGHT
END:VTIMEZONE
END:VCALENDAR
