BEGIN:VCALENDAR
VERSION:2.0
PRODID:-//Plone.org//NONSGML plone.app.event//EN
X-WR-TIMEZONE:US/Eastern
BEGIN:VEVENT
SUMMARY:Cup Coozie Craft
DTSTART;TZID=US/Eastern:20220212T101500
DTEND;TZID=US/Eastern:20220212T134500
DTSTAMP:20260420T041551Z
UID:c9401abe60b34414a27e11ec48aed761@saas_stack_varnish:6080
CONTACT:8106882282\, northbranchlibary@northbranchlibrary.net
CREATED:20220114T184602Z
DESCRIPTION:Come into the library to make this simple\, yet adorable craft
 .  Supplies are provided.  However\, they are limited to 20 participants.
LAST-MODIFIED:20220114T184608Z
LOCATION:NBTL
URL:https://northbranch.ploud.net/news-events/lib-cal/cup-coozie-craft
END:VEVENT
BEGIN:VTIMEZONE
TZID:US/Eastern
X-LIC-LOCATION:US/Eastern
BEGIN:STANDARD
DTSTART:20211107T010000
TZNAME:EST
TZOFFSETFROM:-0400
TZOFFSETTO:-0500
END:STANDARD
END:VTIMEZONE
END:VCALENDAR
