BEGIN:VCALENDAR
VERSION:2.0
PRODID:-//Plone.org//NONSGML plone.app.event//EN
X-WR-TIMEZONE:US/Eastern
BEGIN:VEVENT
SUMMARY:December Kids Make & Take
DTSTART;TZID=US/Eastern:20211211T100000
DTEND;TZID=US/Eastern:20211211T133000
DTSTAMP:20260420T054925Z
UID:389c447c95a3445db0d4d1da76f2dadf@saas_stack_varnish:6080
ATTENDEE;CN="Children's program";ROLE=REQ-PARTICIPANT:Children's program
CONTACT:Kelli Lovasz\, 810-688-2282\, northbranchlibary@northbranchlibrary
 .net
CREATED:20211109T192506Z
DESCRIPTION:Make a cute reindeer to take home.  All materials provided.
LAST-MODIFIED:20211109T192511Z
LOCATION:NBTL
URL:https://northbranch.ploud.net/news-events/lib-cal/december-kids-make-t
 ake
END:VEVENT
BEGIN:VTIMEZONE
TZID:US/Eastern
X-LIC-LOCATION:US/Eastern
BEGIN:STANDARD
DTSTART:20211107T010000
TZNAME:EST
TZOFFSETFROM:-0400
TZOFFSETTO:-0500
END:STANDARD
END:VTIMEZONE
END:VCALENDAR
