BEGIN:VCALENDAR
VERSION:2.0
PRODID:-//Plone.org//NONSGML plone.app.event//EN
X-WR-TIMEZONE:US/Eastern
BEGIN:VEVENT
SUMMARY:Dinosaurs Everywhere Kit
DTSTART;VALUE=DATE:20210628
DTEND;VALUE=DATE:20210629
DTSTAMP:20260420T121459Z
UID:55863bf9c54b4c4d89338d97b800e2cc@saas_stack_varnish:6080
CREATED:20210616T163025Z
DESCRIPTION:Week of 6/28-7/2.  Dinosaurs are the theme of this summer read
 ing kit.
LAST-MODIFIED:20210616T163029Z
URL:https://northbranch.ploud.net/news-events/lib-cal/dinosaurs-everywhere
 -kit
END:VEVENT
END:VCALENDAR
