BEGIN:VCALENDAR
VERSION:2.0
PRODID:-//Plone.org//NONSGML plone.app.event//EN
X-WR-TIMEZONE:US/Eastern
BEGIN:VEVENT
SUMMARY:EARLY CLOSING
DTSTART;TZID=US/Eastern:20200410T130000
DTEND;TZID=US/Eastern:20200410T170000
DTSTAMP:20260420T091247Z
UID:7210115bde7f4ddcaef32a20b344c6d3@saas_stack_varnish:6080
CONTACT:Kelli Lovasz\, 8106882282\, northbranchlibrary@northbranchlibrary.
 net
CREATED:20200210T180226Z
DESCRIPTION:Closing at 1:00pm
LAST-MODIFIED:20200210T180230Z
LOCATION:NBTL
URL:https://northbranch.ploud.net/news-events/lib-cal/early-closing-1
END:VEVENT
BEGIN:VTIMEZONE
TZID:US/Eastern
X-LIC-LOCATION:US/Eastern
BEGIN:DAYLIGHT
DTSTART:20200308T030000
TZNAME:EDT
TZOFFSETFROM:-0500
TZOFFSETTO:-0400
END:DAYLIGHT
END:VTIMEZONE
END:VCALENDAR
