BEGIN:VCALENDAR
VERSION:2.0
PRODID:-//Plone.org//NONSGML plone.app.event//EN
X-WR-TIMEZONE:US/Eastern
BEGIN:VEVENT
SUMMARY:EARLY CLOSING
DTSTART;TZID=US/Eastern:20190607T160000
DTEND;TZID=US/Eastern:20190607T190000
DTSTAMP:20260420T155321Z
UID:c628639542e8476c89b0a0927f661846@saas_stack_varnish:6080
CREATED:20190605T151434Z
DESCRIPTION:The library will be closing at 4:00pm today for staff training
 .
LAST-MODIFIED:20190605T151440Z
URL:https://northbranch.ploud.net/news-events/lib-cal/early-closing
END:VEVENT
BEGIN:VTIMEZONE
TZID:US/Eastern
X-LIC-LOCATION:US/Eastern
BEGIN:DAYLIGHT
DTSTART:20190310T030000
TZNAME:EDT
TZOFFSETFROM:-0500
TZOFFSETTO:-0400
END:DAYLIGHT
END:VTIMEZONE
END:VCALENDAR
