BEGIN:VCALENDAR
VERSION:2.0
PRODID:-//Plone.org//NONSGML plone.app.event//EN
X-WR-TIMEZONE:US/Eastern
BEGIN:VEVENT
SUMMARY:Easter Craft
DTSTART;TZID=US/Eastern:20240321T150000
DTEND;TZID=US/Eastern:20240321T180000
DTSTAMP:20260419T214432Z
UID:c7decc30a9cf422cb94cf673d4ab8bbf@saas_stack_varnish:6080
CREATED:20240223T170930Z
LAST-MODIFIED:20240223T170936Z
URL:https://northbranch.ploud.net/news-events/lib-cal/easter-craft
END:VEVENT
BEGIN:VTIMEZONE
TZID:US/Eastern
X-LIC-LOCATION:US/Eastern
BEGIN:DAYLIGHT
DTSTART:20240310T030000
TZNAME:EDT
TZOFFSETFROM:-0500
TZOFFSETTO:-0400
END:DAYLIGHT
END:VTIMEZONE
END:VCALENDAR
