BEGIN:VCALENDAR
VERSION:2.0
PRODID:-//Plone.org//NONSGML plone.app.event//EN
X-WR-TIMEZONE:US/Eastern
BEGIN:VEVENT
SUMMARY:Easter Egg Decorating at the Library
DTSTART;TZID=US/Eastern:20120406T090000
DTEND;TZID=US/Eastern:20120406T120000
DTSTAMP:20260420T030518Z
UID:6f2029f69ea4ab3f1c54132553a7f80e@saas_stack_varnish:6080
CONTACT:Kelli Lovasz\, 810-688-2282\, northbranchlibrary@northbranchlibrar
 y.net
CREATED:20120227T202939Z
DESCRIPTION:The NBTL's annual Easter Egg Decorating event.
LAST-MODIFIED:20150715T190418Z
LOCATION:NBTL MEETING ROOM
URL:https://northbranch.ploud.net/news-events/lib-cal/easter-egg-decoratin
 g-at-the-library.ics
END:VEVENT
BEGIN:VTIMEZONE
TZID:US/Eastern
X-LIC-LOCATION:US/Eastern
BEGIN:DAYLIGHT
DTSTART:20120311T030000
TZNAME:EDT
TZOFFSETFROM:-0500
TZOFFSETTO:-0400
END:DAYLIGHT
END:VTIMEZONE
END:VCALENDAR
