BEGIN:VCALENDAR
VERSION:2.0
PRODID:-//Plone.org//NONSGML plone.app.event//EN
X-WR-TIMEZONE:US/Eastern
BEGIN:VEVENT
SUMMARY:Easter Eggs at the Library
DTSTART;TZID=US/Eastern:20180330T103000
DTEND;TZID=US/Eastern:20180330T123000
DTSTAMP:20260420T173126Z
UID:757aff050811438996c45d9df12aee20@saas_stack_varnish:6080
ATTENDEE;CN="All ages";ROLE=REQ-PARTICIPANT:All ages
CONTACT:Kelli Lovasz\, 810-688-2282\, northbranchlibrary@northbranchlibrar
 y.net
CREATED:20180104T151843Z
DESCRIPTION:Annual Easter Egg decorating event.  Bring in your hard boiled
  eggs and we provide the rest.  Dyes\, markers\, paints\, glitter\, sticke
 rs etc...  You have all the fun of decorating and we clean up the mess.
LAST-MODIFIED:20180104T151847Z
LOCATION:NBTL Meeting Room
URL:https://northbranch.ploud.net/news-events/lib-cal/easter-eggs-at-the-l
 ibrary-1
END:VEVENT
BEGIN:VTIMEZONE
TZID:US/Eastern
X-LIC-LOCATION:US/Eastern
BEGIN:DAYLIGHT
DTSTART:20180311T030000
TZNAME:EDT
TZOFFSETFROM:-0500
TZOFFSETTO:-0400
END:DAYLIGHT
END:VTIMEZONE
END:VCALENDAR
