BEGIN:VCALENDAR
VERSION:2.0
PRODID:-//Plone.org//NONSGML plone.app.event//EN
X-WR-TIMEZONE:US/Eastern
BEGIN:VEVENT
SUMMARY:Easter Eggs at the Library
DTSTART;TZID=US/Eastern:20190419T103000
DTEND;TZID=US/Eastern:20190419T123000
DTSTAMP:20260422T120601Z
UID:6b2212acc98d43a0b00d6bfe1f9e6b0a@saas_stack_varnish:6080
ATTENDEE;CN="This is open to all ages and is a great family event.";ROLE=R
 EQ-PARTICIPANT:This is open to all ages and is a great family event.
CONTACT:Kelli Lovasz\, 8106882282\, northbranchlibrary@northbranchlibrary.
 net
CREATED:20190205T165822Z
DESCRIPTION:Our annual Easter Egg event.  You bring your hard boiled eggs 
 and will provide all the supplies for decorations.  Dyes\, markers\, glitt
 er\, paint and stickers.\nBonus:  We clean up the mess.
LAST-MODIFIED:20190205T165827Z
LOCATION:NBTL Meeting Room
URL:https://northbranch.ploud.net/news-events/lib-cal/easter-eggs-at-the-l
 ibrary-2
END:VEVENT
BEGIN:VTIMEZONE
TZID:US/Eastern
X-LIC-LOCATION:US/Eastern
BEGIN:DAYLIGHT
DTSTART:20190310T030000
TZNAME:EDT
TZOFFSETFROM:-0500
TZOFFSETTO:-0400
END:DAYLIGHT
END:VTIMEZONE
END:VCALENDAR
