BEGIN:VCALENDAR
VERSION:2.0
PRODID:-//Plone.org//NONSGML plone.app.event//EN
X-WR-TIMEZONE:US/Eastern
BEGIN:VEVENT
SUMMARY:Easter Eggs at the Library
DTSTART;TZID=US/Eastern:20200410T100000
DTEND;TZID=US/Eastern:20200410T123000
DTSTAMP:20260420T093331Z
UID:91b6a17123094c339b20fcbbb1765e56@saas_stack_varnish:6080
CONTACT:Kelli Lovasz\, 8106882282\, northbranchlibrary@northbranchlibrary.
 net
CREATED:20200210T180123Z
DESCRIPTION:Join us for our annual Easter Egg coloring day.  You bring the
  hard boiled eggs and we'll supply the rest.  Dyes\, markers\, stickers\, 
 paint etc.  All the fun of decorating your eggs and we clean up the rest.
LAST-MODIFIED:20200210T180127Z
LOCATION:NBTL Meeting Room
URL:https://northbranch.ploud.net/news-events/lib-cal/easter-eggs-at-the-l
 ibrary-3
END:VEVENT
BEGIN:VTIMEZONE
TZID:US/Eastern
X-LIC-LOCATION:US/Eastern
BEGIN:DAYLIGHT
DTSTART:20200308T030000
TZNAME:EDT
TZOFFSETFROM:-0500
TZOFFSETTO:-0400
END:DAYLIGHT
END:VTIMEZONE
END:VCALENDAR
