BEGIN:VCALENDAR
VERSION:2.0
PRODID:-//Plone.org//NONSGML plone.app.event//EN
X-WR-TIMEZONE:US/Eastern
BEGIN:VEVENT
SUMMARY:Easter Eggs at the Library
DTSTART;TZID=US/Eastern:20160325T103000
DTEND;TZID=US/Eastern:20160325T130000
DTSTAMP:20260420T205325Z
UID:095075965b5441b7a45bec328b8adc36@saas_stack_varnish:6080
ATTENDEE;CN="All ages";ROLE=REQ-PARTICIPANT:All ages
CONTACT:Kelli Lovasz\, 810-688-2282\, northbranchlibrary@northbranchlibrar
 y.net
CREATED:20160113T202003Z
DESCRIPTION:Bring your hard boiled eggs and we'll provide the rest and cle
 an up the mess!  Dyes\, markers\, glitter\, stickers\, paint etc provided.
LAST-MODIFIED:20160113T202007Z
LOCATION:NBTL Meeting Room
URL:https://northbranch.ploud.net/news-events/lib-cal/easter-eggs-at-the-l
 ibrary
END:VEVENT
BEGIN:VTIMEZONE
TZID:US/Eastern
X-LIC-LOCATION:US/Eastern
BEGIN:DAYLIGHT
DTSTART:20160313T030000
TZNAME:EDT
TZOFFSETFROM:-0500
TZOFFSETTO:-0400
END:DAYLIGHT
END:VTIMEZONE
END:VCALENDAR
