BEGIN:VCALENDAR
VERSION:2.0
PRODID:-//Plone.org//NONSGML plone.app.event//EN
X-WR-TIMEZONE:US/Eastern
BEGIN:VEVENT
SUMMARY:Essential Oil 101
DTSTART;TZID=US/Eastern:20160510T103000
DTEND;TZID=US/Eastern:20160510T113000
DTSTAMP:20260420T222814Z
UID:508768accb9942529e18dc0ec4024eda@saas_stack_varnish:6080
CONTACT:Heather Easton\, 810-656-1146
CREATED:20160415T181228Z
DESCRIPTION:This is an informational class presented by Heather Easton on 
 the basic uses of doTERRA Essential Oils.  
LAST-MODIFIED:20160415T181233Z
LOCATION:NBTL Meeting Room
URL:https://northbranch.ploud.net/news-events/lib-cal/essential-oil-101
END:VEVENT
BEGIN:VTIMEZONE
TZID:US/Eastern
X-LIC-LOCATION:US/Eastern
BEGIN:DAYLIGHT
DTSTART:20160313T030000
TZNAME:EDT
TZOFFSETFROM:-0500
TZOFFSETTO:-0400
END:DAYLIGHT
END:VTIMEZONE
END:VCALENDAR
