BEGIN:VCALENDAR
VERSION:2.0
PRODID:-//Plone.org//NONSGML plone.app.event//EN
X-WR-TIMEZONE:US/Eastern
BEGIN:VEVENT
SUMMARY:Exotic Zoo
DTSTART;TZID=US/Eastern:20190725T110000
DTEND;TZID=US/Eastern:20190725T120000
DTSTAMP:20260420T105924Z
UID:58fdc8ac520345db8bb21576d4034815@saas_stack_varnish:6080
CONTACT:Kelli Lovasz\, 8106882282\, northbranchlibrary@northbranchlibrary.
 net
CREATED:20190605T162318Z
DESCRIPTION:Meet animals at the library.  A traveling Zoo that brings anim
 als for a hands-on learning experience.
LAST-MODIFIED:20190605T162323Z
LOCATION:NBTL
URL:https://northbranch.ploud.net/news-events/lib-cal/exotic-zoo
END:VEVENT
BEGIN:VTIMEZONE
TZID:US/Eastern
X-LIC-LOCATION:US/Eastern
BEGIN:DAYLIGHT
DTSTART:20190310T030000
TZNAME:EDT
TZOFFSETFROM:-0500
TZOFFSETTO:-0400
END:DAYLIGHT
END:VTIMEZONE
END:VCALENDAR
