BEGIN:VCALENDAR
VERSION:2.0
PRODID:-//Plone.org//NONSGML plone.app.event//EN
X-WR-TIMEZONE:US/Eastern
BEGIN:VEVENT
SUMMARY:Fairy Gardens with Campbells Greenhouse (adult program)
DTSTART;TZID=US/Eastern:20160623T130000
DTEND;TZID=US/Eastern:20160623T150000
DTSTAMP:20260420T202641Z
UID:33cf1ecc9fc44ff48c9e5b9246f58ac4@saas_stack_varnish:6080
ATTENDEE;CN="This is an adult and upper teen program.";ROLE=REQ-PARTICIPAN
 T:This is an adult and upper teen program.
CONTACT:Christi Mortell\, 810-688-2282\, northbranchlibrary@northbranchlib
 rary.net
CREATED:20160524T151540Z
DESCRIPTION:Express your creativity with these fun and whimsical container
  gardens.  Adds a unique touch to any flower bed or indoor garden.  Please
  call or stop at the front desk to register for this class.  Materials are
  limited.
LAST-MODIFIED:20160524T151544Z
LOCATION:NBTL Meeting Room
URL:https://northbranch.ploud.net/news-events/lib-cal/fairy-gardens-with-c
 ampbells-greenhouse-adult-program
END:VEVENT
BEGIN:VTIMEZONE
TZID:US/Eastern
X-LIC-LOCATION:US/Eastern
BEGIN:DAYLIGHT
DTSTART:20160313T030000
TZNAME:EDT
TZOFFSETFROM:-0500
TZOFFSETTO:-0400
END:DAYLIGHT
END:VTIMEZONE
END:VCALENDAR
