BEGIN:VCALENDAR
VERSION:2.0
PRODID:-//Plone.org//NONSGML plone.app.event//EN
X-WR-TIMEZONE:US/Eastern
BEGIN:VEVENT
SUMMARY:Fall Mason Jar Lights
DTSTART;TZID=US/Eastern:20161027T170000
DTEND;TZID=US/Eastern:20161027T180000
DTSTAMP:20260420T220946Z
UID:e7f22e8a699540edb347832b0bdbf0f3@saas_stack_varnish:6080
ATTENDEE;CN="12 and up";ROLE=REQ-PARTICIPANT:12 and up
CONTACT:Kelli Lovasz\, 810-688-2282\, northbranchlibrary@northbranchlibrar
 y.net
CREATED:20161025T143337Z
DESCRIPTION:Bring your own mason jar and we provide the rest to make these
  fun\, whimsical fall luminaries.
LAST-MODIFIED:20161025T143343Z
LOCATION:NBTL Meeting Room
URL:https://northbranch.ploud.net/news-events/lib-cal/fall-mason-jar-light
 s
END:VEVENT
BEGIN:VTIMEZONE
TZID:US/Eastern
X-LIC-LOCATION:US/Eastern
BEGIN:DAYLIGHT
DTSTART:20160313T030000
TZNAME:EDT
TZOFFSETFROM:-0500
TZOFFSETTO:-0400
END:DAYLIGHT
END:VTIMEZONE
END:VCALENDAR
