BEGIN:VCALENDAR
VERSION:2.0
PRODID:-//Plone.org//NONSGML plone.app.event//EN
X-WR-TIMEZONE:US/Eastern
BEGIN:VEVENT
SUMMARY:Firefly Origami and Story
DTSTART;TZID=US/Eastern:20220819T113000
DTEND;TZID=US/Eastern:20220819T123000
DTSTAMP:20260420T064811Z
UID:96e09aa997794de6ae662bd4351ee5a8@saas_stack_varnish:6080
ATTENDEE;CN="ages 5 and up";ROLE=REQ-PARTICIPANT:ages 5 and up
CONTACT:Kelli Lovasz\, 8106882282\, northbranchlibary@northbranchlibrary.n
 et
CREATED:20220808T181654Z
DESCRIPTION:Join Jean Kriener from the MSU Extension for a story and origa
 mi craft.  This program is best for ages 5 and up.
LAST-MODIFIED:20220808T181702Z
LOCATION:NBTL Meeting Room
URL:https://northbranch.ploud.net/news-events/lib-cal/firefly-origami-and-
 story
END:VEVENT
BEGIN:VTIMEZONE
TZID:US/Eastern
X-LIC-LOCATION:US/Eastern
BEGIN:DAYLIGHT
DTSTART:20220313T030000
TZNAME:EDT
TZOFFSETFROM:-0500
TZOFFSETTO:-0400
END:DAYLIGHT
END:VTIMEZONE
END:VCALENDAR
