BEGIN:VCALENDAR
VERSION:2.0
PRODID:-//Plone.org//NONSGML plone.app.event//EN
X-WR-TIMEZONE:US/Eastern
BEGIN:VEVENT
SUMMARY:Flower Pot Dirt Dessert
DTSTART;TZID=US/Eastern:20160409T103000
DTEND;TZID=US/Eastern:20160409T133000
DTSTAMP:20260420T184910Z
UID:588331de83854aa687f84a8f9e9f9233@saas_stack_varnish:6080
CREATED:20160404T155034Z
DESCRIPTION:End your spring break with a delightful dessert and craft at t
 he library.
LAST-MODIFIED:20160404T155039Z
URL:https://northbranch.ploud.net/news-events/lib-cal/flower-pot-dirt-dess
 ert
END:VEVENT
BEGIN:VTIMEZONE
TZID:US/Eastern
X-LIC-LOCATION:US/Eastern
BEGIN:DAYLIGHT
DTSTART:20160313T030000
TZNAME:EDT
TZOFFSETFROM:-0500
TZOFFSETTO:-0400
END:DAYLIGHT
END:VTIMEZONE
END:VCALENDAR
