BEGIN:VCALENDAR
VERSION:2.0
PRODID:-//Plone.org//NONSGML plone.app.event//EN
X-WR-TIMEZONE:US/Eastern
BEGIN:VEVENT
SUMMARY:Folded Book Vase Craft Class
DTSTART;TZID=US/Eastern:20250925T170000
DTEND;TZID=US/Eastern:20250925T183000
DTSTAMP:20260419T220519Z
UID:56ec2a9df845437abb4d3cadbf1e253f@saas_stack_varnish:6080
ATTENDEE;CN="All ages welcome, but children must be accompanied by a guard
 ian. Call and sign up at 810-688-2282";ROLE=REQ-PARTICIPANT:All ages welco
 me, but children must be accompanied by a guardian. Call and sign up at 81
 0-688-2282
CONTACT:810-688-2282\, northbranchlibrary@northbranchlibrary.net
CREATED:20250821T182453Z
DESCRIPTION:Join us to upcycle an old book and make it into a flower vase!
  Books and fake flowers will be provided\, but bringing additional flowers
  is encouraged. Call and sign up at 810-688-2282.
LAST-MODIFIED:20250821T182509Z
LOCATION:North Branch Township Library
URL:https://northbranch.ploud.net/news-events/lib-cal/folded-book-vase-cra
 ft-class
END:VEVENT
BEGIN:VTIMEZONE
TZID:US/Eastern
X-LIC-LOCATION:US/Eastern
BEGIN:DAYLIGHT
DTSTART:20250309T030000
TZNAME:EDT
TZOFFSETFROM:-0500
TZOFFSETTO:-0400
END:DAYLIGHT
END:VTIMEZONE
END:VCALENDAR
