BEGIN:VCALENDAR
VERSION:2.0
PRODID:-//Plone.org//NONSGML plone.app.event//EN
X-WR-TIMEZONE:US/Eastern
BEGIN:VEVENT
SUMMARY:Foraging Program
DTSTART;TZID=US/Eastern:20240504T110000
DTEND;TZID=US/Eastern:20240504T110000
DTSTAMP:20260420T012934Z
UID:0fea43f5af9a4d5aa109d9dd6d390adc@saas_stack_varnish:6080
CONTACT:Kelli Lovasz\, 810-688-2282\, northbranchlibrary@northbranchlibrar
 y.net
CREATED:20240404T220651Z
DESCRIPTION:Joe Nash\, District Forester\,  presents on finding and identi
 fying wild edibles\, focusing on spring and summer.
LAST-MODIFIED:20240404T220701Z
LOCATION:NBTL Meeting Room
URL:https://northbranch.ploud.net/news-events/lib-cal/foraging-program
END:VEVENT
BEGIN:VTIMEZONE
TZID:US/Eastern
X-LIC-LOCATION:US/Eastern
BEGIN:DAYLIGHT
DTSTART:20240310T030000
TZNAME:EDT
TZOFFSETFROM:-0500
TZOFFSETTO:-0400
END:DAYLIGHT
END:VTIMEZONE
END:VCALENDAR
