BEGIN:VCALENDAR
VERSION:2.0
PRODID:-//Plone.org//NONSGML plone.app.event//EN
X-WR-TIMEZONE:US/Eastern
BEGIN:VEVENT
SUMMARY:Frankentoys
DTSTART;TZID=US/Eastern:20191026T110000
DTEND;TZID=US/Eastern:20191026T130000
DTSTAMP:20260420T091223Z
UID:6c1eaed345c149ac8806f457cfacaa6a@saas_stack_varnish:6080
ATTENDEE;CN="Children, Tweens and Teens.  Younger children will require ad
 ult supervision.";ROLE=REQ-PARTICIPANT:Children, Tweens and Teens.  Younge
 r children will require adult supervision.
CONTACT:Kelli Lovasz\, 8106882282\, northbranchlibrary@northbranchlibrary.
 net
CREATED:20191015T193924Z
DESCRIPTION:Create your own stuffed animal!  We will be taking old stuffed
  animals\, taking them apart and making new\, unique ones.  Make them cute
 \, creepy\, funny... whatever you choose.  Scissors\, needle and thread wi
 ll be used.  Adult supervision is required.  This is a Make & Take style p
 rogram.
LAST-MODIFIED:20191015T193935Z
LOCATION:NBTL
URL:https://northbranch.ploud.net/news-events/lib-cal/frankentoys
END:VEVENT
BEGIN:VTIMEZONE
TZID:US/Eastern
X-LIC-LOCATION:US/Eastern
BEGIN:DAYLIGHT
DTSTART:20190310T030000
TZNAME:EDT
TZOFFSETFROM:-0500
TZOFFSETTO:-0400
END:DAYLIGHT
END:VTIMEZONE
END:VCALENDAR
