BEGIN:VCALENDAR
VERSION:2.0
PRODID:-//Plone.org//NONSGML plone.app.event//EN
X-WR-TIMEZONE:US/Eastern
BEGIN:VEVENT
SUMMARY:Friendship Bracelets and Bead Crafts
DTSTART;TZID=US/Eastern:20160405T110000
DTEND;TZID=US/Eastern:20160405T170000
DTSTAMP:20260420T185318Z
UID:86c667af77044869a5cae5e99afc300e@saas_stack_varnish:6080
CONTACT:Robyn Vincent\, 810-688-2282
CREATED:20160404T154049Z
DESCRIPTION:Spring Break Make & Take.  Stop in and make a craft to take ho
 me.  Today's crafts are friendship bracelets\, bead bookmarks or necklaces
LAST-MODIFIED:20160404T154544Z
URL:https://northbranch.ploud.net/news-events/lib-cal/friendship-bracelets
 -and-bead-crafts
END:VEVENT
BEGIN:VTIMEZONE
TZID:US/Eastern
X-LIC-LOCATION:US/Eastern
BEGIN:DAYLIGHT
DTSTART:20160313T030000
TZNAME:EDT
TZOFFSETFROM:-0500
TZOFFSETTO:-0400
END:DAYLIGHT
END:VTIMEZONE
END:VCALENDAR
