BEGIN:VCALENDAR
VERSION:2.0
PRODID:-//Plone.org//NONSGML plone.app.event//EN
X-WR-TIMEZONE:US/Eastern
BEGIN:VEVENT
SUMMARY:Gemini in Concert
DTSTART;TZID=US/Eastern:20180626T110000
DTEND;TZID=US/Eastern:20180626T120000
DTSTAMP:20260422T161453Z
UID:4829b8e3470c43f6b6b80092b477fd11@saas_stack_varnish:6080
CONTACT:Kelli Lovasz\, 8106882282\, northbranchlibrary@northbranchlibrary.
 net
CREATED:20180605T191515Z
DESCRIPTION:A fan favorite Gemini is full of interactive\, sing-and-move-a
 long program full of songs about childhood and family.
LAST-MODIFIED:20180605T191519Z
LOCATION:NBTL
URL:https://northbranch.ploud.net/news-events/lib-cal/gemini-in-concert
END:VEVENT
BEGIN:VTIMEZONE
TZID:US/Eastern
X-LIC-LOCATION:US/Eastern
BEGIN:DAYLIGHT
DTSTART:20180311T030000
TZNAME:EDT
TZOFFSETFROM:-0500
TZOFFSETTO:-0400
END:DAYLIGHT
END:VTIMEZONE
END:VCALENDAR
