BEGIN:VCALENDAR
VERSION:2.0
PRODID:-//Plone.org//NONSGML plone.app.event//EN
X-WR-TIMEZONE:US/Eastern
BEGIN:VEVENT
SUMMARY:Geocaching 101
DTSTART;TZID=US/Eastern:20170707T110000
DTEND;TZID=US/Eastern:20170707T130000
DTSTAMP:20260420T204058Z
UID:a5947efd79114e0bbcc9928137e7cd18@saas_stack_varnish:6080
ATTENDEE;CN="This is a family program.  Children must have an adult presen
 t to attend.";ROLE=REQ-PARTICIPANT:This is a family program.  Children mus
 t have an adult present to attend.
CONTACT:Christi Mortell\, 810-688-2282\, northbranchlibrary@northbranchlib
 rary.net
CREATED:20170515T193142Z
DESCRIPTION:Geocaching is a Modern Day Treasure Hunt.  We will be introduc
 ing you to this fun activity.  There will be tips\, how-to's and a possibl
 e "find".  This is a family program and children must have an adult with t
 hem.  Please call the circulation desk for information and sign up.
LAST-MODIFIED:20170515T193146Z
LOCATION:NBTL
URL:https://northbranch.ploud.net/news-events/lib-cal/geocaching-101
END:VEVENT
BEGIN:VTIMEZONE
TZID:US/Eastern
X-LIC-LOCATION:US/Eastern
BEGIN:DAYLIGHT
DTSTART:20170312T030000
TZNAME:EDT
TZOFFSETFROM:-0500
TZOFFSETTO:-0400
END:DAYLIGHT
END:VTIMEZONE
END:VCALENDAR
