BEGIN:VCALENDAR
VERSION:2.0
PRODID:-//Plone.org//NONSGML plone.app.event//EN
X-WR-TIMEZONE:US/Eastern
BEGIN:VEVENT
SUMMARY:Gingerbread House Decorating
DTSTART;TZID=US/Eastern:20251206T103000
DTEND;TZID=US/Eastern:20251206T133000
DTSTAMP:20260419T221352Z
UID:b4705c0578404e19a336986c9a8d0582@saas_stack_varnish:6080
ATTENDEE;CN="All are welcome. Please call and sign up for a slot!";ROLE=RE
 Q-PARTICIPANT:All are welcome. Please call and sign up for a slot!
CONTACT:810-688-2282\, northbranchlibrary@northbranchlibrary.net
CREATED:20251202T151955Z
DESCRIPTION:Join us for our annual gingerbread house decorating day! Time 
 slots start at 10:30AM and go every 30 minutes. Call us to claim your slot
  and please bring a bag of candy to pass if you are able!
LAST-MODIFIED:20251202T152003Z
LOCATION:North Branch Township Library
URL:https://northbranch.ploud.net/news-events/lib-cal/gingerbread-house-de
 corating
END:VEVENT
BEGIN:VTIMEZONE
TZID:US/Eastern
X-LIC-LOCATION:US/Eastern
BEGIN:STANDARD
DTSTART:20251102T010000
TZNAME:EST
TZOFFSETFROM:-0400
TZOFFSETTO:-0500
END:STANDARD
END:VTIMEZONE
END:VCALENDAR
