BEGIN:VCALENDAR
VERSION:2.0
PRODID:-//Plone.org//NONSGML plone.app.event//EN
X-WR-TIMEZONE:US/Eastern
BEGIN:VEVENT
SUMMARY:Gingerbread Houses
DTSTART;TZID=US/Eastern:20161203T103000
DTEND;TZID=US/Eastern:20161203T130000
DTSTAMP:20260420T222227Z
UID:e8f6aaa5d4834e44b76ef3486c6c66c0@saas_stack_varnish:6080
ATTENDEE;CN="All ages";ROLE=REQ-PARTICIPANT:All ages
CONTACT:Kelli Lovasz\, 810-688-2282\, northbranchlibrary@northbranchlibrar
 y.net
CREATED:20161025T150256Z
DESCRIPTION:This is an annual event at the library.  We provide the suppli
 es to make your own Gingerbread House to take home.  This is a great event
  for the whole family.  Bring a free-will bag of candy to add to the decor
 ating fun.  
LAST-MODIFIED:20161025T150301Z
LOCATION:NBTL Meeting Room
URL:https://northbranch.ploud.net/news-events/lib-cal/gingerbread-houses-1
END:VEVENT
BEGIN:VTIMEZONE
TZID:US/Eastern
X-LIC-LOCATION:US/Eastern
BEGIN:STANDARD
DTSTART:20161106T010000
TZNAME:EST
TZOFFSETFROM:-0400
TZOFFSETTO:-0500
END:STANDARD
END:VTIMEZONE
END:VCALENDAR
