BEGIN:VCALENDAR
VERSION:2.0
PRODID:-//Plone.org//NONSGML plone.app.event//EN
X-WR-TIMEZONE:US/Eastern
BEGIN:VEVENT
SUMMARY:Gingerbread Houses
DTSTART;TZID=US/Eastern:20191207T103000
DTEND;TZID=US/Eastern:20191207T123000
DTSTAMP:20260420T142144Z
UID:f5584dedd59c4c198c1ec471431ad2a4@saas_stack_varnish:6080
ATTENDEE;CN="All ages and families";ROLE=REQ-PARTICIPANT:All ages and fami
 lies
CONTACT:Kelli Lovasz\, 8106882282\, northbranchlibrary@northbranchlibrary.
 net
CREATED:20191015T203818Z
DESCRIPTION:Annual Gingerbread House Day.  Fun for all ages and a great fa
 mily tradition.  We provide the basics for making the gingerbread houses. 
  We ask that families bring a bag of candy for donation for decoration.
LAST-MODIFIED:20191015T203822Z
LOCATION:NBTL Meeting Room
URL:https://northbranch.ploud.net/news-events/lib-cal/gingerbread-houses-2
END:VEVENT
BEGIN:VTIMEZONE
TZID:US/Eastern
X-LIC-LOCATION:US/Eastern
BEGIN:STANDARD
DTSTART:20191103T010000
TZNAME:EST
TZOFFSETFROM:-0400
TZOFFSETTO:-0500
END:STANDARD
END:VTIMEZONE
END:VCALENDAR
