BEGIN:VCALENDAR
VERSION:2.0
PRODID:-//Plone.org//NONSGML plone.app.event//EN
X-WR-TIMEZONE:US/Eastern
BEGIN:VEVENT
SUMMARY:Gingerbread Houses at the library
DTSTART;TZID=US/Eastern:20211204T103000
DTEND;TZID=US/Eastern:20211204T133000
DTSTAMP:20260420T055145Z
UID:d793ece341de4590a6b87d9d7522a050@saas_stack_varnish:6080
ATTENDEE;CN="all ages - preregistration required";ROLE=REQ-PARTICIPANT:all
  ages - preregistration required
CONTACT:Kelli Lovasz\, 810-688-2282\, northbranchlibary@northbranchlibrary
 .net
CREATED:20211109T190228Z
DESCRIPTION:Make a gingerbread house at the library.  Preregistration is r
 equired for this program.
LAST-MODIFIED:20211109T190233Z
LOCATION:NBTL
URL:https://northbranch.ploud.net/news-events/lib-cal/gingerbread-houses-a
 t-the-library-1
END:VEVENT
BEGIN:VTIMEZONE
TZID:US/Eastern
X-LIC-LOCATION:US/Eastern
BEGIN:STANDARD
DTSTART:20211107T010000
TZNAME:EST
TZOFFSETFROM:-0400
TZOFFSETTO:-0500
END:STANDARD
END:VTIMEZONE
END:VCALENDAR
