BEGIN:VCALENDAR
VERSION:2.0
PRODID:-//Plone.org//NONSGML plone.app.event//EN
X-WR-TIMEZONE:US/Eastern
BEGIN:VEVENT
SUMMARY:Gingerbread Houses
DTSTART;TZID=US/Eastern:20151205T100000
DTEND;TZID=US/Eastern:20151205T130000
DTSTAMP:20260420T164644Z
UID:10c817b589e241c79620b09bcdf27a9b@saas_stack_varnish:6080
ATTENDEE;CN="All ages welcome.  This is a great event for the whole family
  1 years old - 100 years old.";ROLE=REQ-PARTICIPANT:All ages welcome.  Thi
 s is a great event for the whole family 1 years old - 100 years old.
CONTACT:Kelli Lovasz\, 810-688-2282\, northbranchlibrary@northbranchlibrar
 y.net
CREATED:20151029T153944Z
DESCRIPTION:Our Annual Gingerbread House event.  A great activity for all 
 ages and the whole family.  We supply the basic items needed to make your 
 gingerbread house. And we clean up the mess when you're done.  This is a f
 un event that families have made a tradition.  This is a drop in event\, c
 ome and go any time 10:00am - 1:00pm.  A donation of a bag of candy is app
 reciated.
LAST-MODIFIED:20151029T153949Z
LOCATION:NBTL
URL:https://northbranch.ploud.net/news-events/lib-cal/gingerbread-houses
END:VEVENT
BEGIN:VTIMEZONE
TZID:US/Eastern
X-LIC-LOCATION:US/Eastern
BEGIN:STANDARD
DTSTART:20151101T010000
TZNAME:EST
TZOFFSETFROM:-0400
TZOFFSETTO:-0500
END:STANDARD
END:VTIMEZONE
END:VCALENDAR
