BEGIN:VCALENDAR
VERSION:2.0
PRODID:-//Plone.org//NONSGML plone.app.event//EN
X-WR-TIMEZONE:US/Eastern
BEGIN:VEVENT
SUMMARY:Goldfish Tale Kit
DTSTART;VALUE=DATE:20210621
DTEND;VALUE=DATE:20210622
DTSTAMP:20260420T121421Z
UID:74593113f6164dbe8ef663a1d4f5c6a0@saas_stack_varnish:6080
CREATED:20210616T162851Z
DESCRIPTION:Week of 6/21-6/26.  Pick up your craft to create your own gold
 fish story.
LAST-MODIFIED:20210616T162855Z
URL:https://northbranch.ploud.net/news-events/lib-cal/goldfish-tale-kit
END:VEVENT
END:VCALENDAR
