BEGIN:VCALENDAR
VERSION:2.0
PRODID:-//Plone.org//NONSGML plone.app.event//EN
X-WR-TIMEZONE:US/Eastern
BEGIN:VEVENT
SUMMARY:Graduation Make & Take
DTSTART;TZID=US/Eastern:20190619T170000
DTEND;TZID=US/Eastern:20190619T180000
DTSTAMP:20260420T155234Z
UID:67841ce2f2e94b3eb0712e67ba90362c@saas_stack_varnish:6080
CONTACT:Kelli Lovasz\, 8106882282\, northbranchlibrary@northbranchlibrary.
 net
CREATED:20190605T151937Z
DESCRIPTION:Looking for a unique Graduation Card?  Join Barb Deming at the
  NBTL to learn how to fold money into a cute card.  You bring the $ and we
 'll provide the instructions.
LAST-MODIFIED:20190605T151941Z
LOCATION:NBTL Meeting Room
URL:https://northbranch.ploud.net/news-events/lib-cal/graduation-make-take
END:VEVENT
BEGIN:VTIMEZONE
TZID:US/Eastern
X-LIC-LOCATION:US/Eastern
BEGIN:DAYLIGHT
DTSTART:20190310T030000
TZNAME:EDT
TZOFFSETFROM:-0500
TZOFFSETTO:-0400
END:DAYLIGHT
END:VTIMEZONE
END:VCALENDAR
