BEGIN:VCALENDAR
VERSION:2.0
PRODID:-//Plone.org//NONSGML plone.app.event//EN
X-WR-TIMEZONE:US/Eastern
BEGIN:VEVENT
SUMMARY:Grandma's Button Box
DTSTART;TZID=US/Eastern:20191113T103000
DTEND;TZID=US/Eastern:20191113T113000
DTSTAMP:20260420T093251Z
UID:eba515df982343fe8871a4eb8d43b056@saas_stack_varnish:6080
ATTENDEE;CN="All ages";ROLE=REQ-PARTICIPANT:All ages
CONTACT:Kelli Lovasz\, 8106882282\, northbranchlibrary@northbranchlibrary.
 net
CREATED:20191023T134354Z
DESCRIPTION:Buttons used to be saved and passed down.  Do you have grandma
 's button box in your house?  Would you like to share the stories behind t
 he buttons or just marvel and the beauty of other's?  Regina Thomas will b
 e hosting a button class in her series of classes.  Share tea\, muffins an
 d buttons.
LAST-MODIFIED:20191023T134400Z
LOCATION:NBTL Meeting Room
URL:https://northbranch.ploud.net/news-events/lib-cal/grandmas-button-box
END:VEVENT
BEGIN:VTIMEZONE
TZID:US/Eastern
X-LIC-LOCATION:US/Eastern
BEGIN:STANDARD
DTSTART:20191103T010000
TZNAME:EST
TZOFFSETFROM:-0400
TZOFFSETTO:-0500
END:STANDARD
END:VTIMEZONE
END:VCALENDAR
