BEGIN:VCALENDAR
VERSION:2.0
PRODID:-//Plone.org//NONSGML plone.app.event//EN
X-WR-TIMEZONE:US/Eastern
BEGIN:VEVENT
SUMMARY:Groundhog Day Craft
DTSTART;TZID=US/Eastern:20220126T120000
DTEND;TZID=US/Eastern:20220202T130000
DTSTAMP:20260420T041551Z
UID:b92a7a4ef5114d4a94101714838fa53a@saas_stack_varnish:6080
CONTACT:Kelli Lovasz\, 8106882282\, northbranchlibary@northbranchlibrary.n
 et
CREATED:20220114T183414Z
DESCRIPTION:Pick up a Groundhog Day crat to make at home.
LAST-MODIFIED:20220114T183419Z
LOCATION:NBTL
URL:https://northbranch.ploud.net/news-events/lib-cal/groundhog-day-craft
END:VEVENT
BEGIN:VTIMEZONE
TZID:US/Eastern
X-LIC-LOCATION:US/Eastern
BEGIN:STANDARD
DTSTART:20211107T010000
TZNAME:EST
TZOFFSETFROM:-0400
TZOFFSETTO:-0500
END:STANDARD
END:VTIMEZONE
END:VCALENDAR
