BEGIN:VCALENDAR
VERSION:2.0
PRODID:-//Plone.org//NONSGML plone.app.event//EN
X-WR-TIMEZONE:US/Eastern
BEGIN:VEVENT
SUMMARY:Halloween Treat
DTSTART;TZID=US/Eastern:20221028T100000
DTEND;TZID=US/Eastern:20221028T170000
DTSTAMP:20260420T010042Z
UID:b432b41fe2d8491b9609916b00754329@saas_stack_varnish:6080
CREATED:20220930T163332Z
DESCRIPTION:Happy Halloween.  Stop into the library for a Halloween Treat.
LAST-MODIFIED:20220930T163336Z
URL:https://northbranch.ploud.net/news-events/lib-cal/halloween-treat
END:VEVENT
BEGIN:VTIMEZONE
TZID:US/Eastern
X-LIC-LOCATION:US/Eastern
BEGIN:DAYLIGHT
DTSTART:20220313T030000
TZNAME:EDT
TZOFFSETFROM:-0500
TZOFFSETTO:-0400
END:DAYLIGHT
END:VTIMEZONE
END:VCALENDAR
