BEGIN:VCALENDAR
VERSION:2.0
PRODID:-//Plone.org//NONSGML plone.app.event//EN
X-WR-TIMEZONE:US/Eastern
BEGIN:VEVENT
SUMMARY:Halloween Treats
DTSTART;VALUE=DATE:20181031
DTEND;VALUE=DATE:20181101
DTSTAMP:20260420T153445Z
UID:7a62fa5594ad4a5097bbe969b8f9ec05@saas_stack_varnish:6080
CREATED:20180830T173042Z
DESCRIPTION:Stop by the NBTL on Halloween in your costume to receive a tre
 at.
LAST-MODIFIED:20180830T173046Z
URL:https://northbranch.ploud.net/news-events/lib-cal/halloween-treats
END:VEVENT
END:VCALENDAR
