BEGIN:VCALENDAR
VERSION:2.0
PRODID:-//Plone.org//NONSGML plone.app.event//EN
X-WR-TIMEZONE:US/Eastern
BEGIN:VEVENT
SUMMARY:Halloween Trick or Treat
DTSTART;TZID=US/Eastern:20201031T100000
DTEND;TZID=US/Eastern:20201031T140000
DTSTAMP:20260420T132740Z
UID:3c72d0d443af412195f9aa99c65299da@saas_stack_varnish:6080
CREATED:20200210T180715Z
DESCRIPTION:Don't forget to stop at the library to pick up your Halloween 
 Treat.
LAST-MODIFIED:20200210T180718Z
URL:https://northbranch.ploud.net/news-events/lib-cal/halloween-trick-or-t
 reat
END:VEVENT
BEGIN:VTIMEZONE
TZID:US/Eastern
X-LIC-LOCATION:US/Eastern
BEGIN:DAYLIGHT
DTSTART:20200308T030000
TZNAME:EDT
TZOFFSETFROM:-0500
TZOFFSETTO:-0400
END:DAYLIGHT
END:VTIMEZONE
END:VCALENDAR
