BEGIN:VCALENDAR
VERSION:2.0
PRODID:-//Plone.org//NONSGML plone.app.event//EN
X-WR-TIMEZONE:US/Eastern
BEGIN:VEVENT
SUMMARY:Halloween
DTSTART;VALUE=DATE:20171031
DTEND;VALUE=DATE:20171101
DTSTAMP:20260420T185705Z
UID:15ce28cff4ce4d0d8b8450c2c6dd3822@saas_stack_varnish:6080
CREATED:20170928T190312Z
DESCRIPTION:Don't forget to stop at the NBTL as you're out Trick or Treati
 ng.  We have Halloween treats.
LAST-MODIFIED:20170928T190319Z
URL:https://northbranch.ploud.net/news-events/lib-cal/halloween
END:VEVENT
END:VCALENDAR
